BEGIN:VCALENDAR
VERSION:2.0
PRODID:-//Tukios.com/
BEGIN:VEVENT
UID:17b52d28-ccc5-46cc-a184-d69455a6fef4@www.lassahnfuneralhomes.com
DTSTAMP:20260425T225121Z
DTSTART:20260428T180000Z
DTEND:20260428T200000Z
SUMMARY:Visitation
DESCRIPTION:
URL:https://www.lassahnfuneralhomes.com/obituaries/constance-hale
LOCATION:Lassahn Funeral Home, Inc. 7401 Belair Road  Overlea MD 21236
GEO:39.3606434;-76.523413
END:VEVENT
END:VCALENDAR