BEGIN:VCALENDAR
VERSION:2.0
PRODID:-//Tukios.com/
BEGIN:VEVENT
UID:554b7880-e68b-43d4-8e5b-e01a33d3588b@www.lassahnfuneralhomes.com
DTSTAMP:20260425T225539Z
DTSTART:20260428T220000Z
DTEND:20260429T000000Z
SUMMARY:Visitation
DESCRIPTION:
URL:https://www.lassahnfuneralhomes.com/obituaries/constance-hale
LOCATION: 7401 Belair Road  Overlea MD 21236
GEO:39.3606434;-76.523413
END:VEVENT
END:VCALENDAR