BEGIN:VCALENDAR
VERSION:2.0
PRODID:-//Tukios.com/
BEGIN:VEVENT
UID:d82155f3-3387-4f97-b416-8fd43e01b8bb@www.lassahnfuneralhomes.com
DTSTAMP:20260425T225330Z
DTSTART:20260429T160000Z
DTEND:20260429T170000Z
SUMMARY:Funeral Service
DESCRIPTION:
URL:https://www.lassahnfuneralhomes.com/obituaries/constance-hale
LOCATION:Lassahn Funeral Home, Inc. 7401 Belair Road  Overlea MD 21236
GEO:39.3606434;-76.523413
END:VEVENT
END:VCALENDAR