BEGIN:VCALENDAR
VERSION:2.0
PRODID:-//Tukios.com/
BEGIN:VEVENT
UID:761fd43f-642f-44e5-ac1a-ad70e2aa7ee4@www.lassahnfuneralhomes.com
DTSTAMP:20260424T014453Z
DTSTART:20260426T170000Z
DTEND:20260426T190000Z
SUMMARY:Visitation
DESCRIPTION:
URL:https://www.lassahnfuneralhomes.com/obituaries/susan-koerber
LOCATION: 11750 Belair Rd  Kingsville MD 21087
GEO:39.4465656;-76.4203657
END:VEVENT
END:VCALENDAR