BEGIN:VCALENDAR
VERSION:2.0
PRODID:-//Tukios.com/
BEGIN:VEVENT
UID:f3eeb1dd-4a62-45e3-9208-d5006382f50e@www.lassahnfuneralhomes.com
DTSTAMP:20260424T014742Z
DTSTART:20260427T140000Z
DTEND:20260427T150000Z
SUMMARY:Funeral Service
DESCRIPTION:
URL:https://www.lassahnfuneralhomes.com/obituaries/susan-koerber
LOCATION: 141 Hickory Avenue  Bel Air MD 21014
GEO:39.5405019;-76.348309
END:VEVENT
END:VCALENDAR