BEGIN:VCALENDAR
VERSION:2.0
PRODID:-//Tukios.com/
BEGIN:VEVENT
UID:975475eb-f3f1-4af7-9d23-e71395460b50@www.lassahnfuneralhomes.com
DTSTAMP:20260419T185904Z
DTSTART:20260420T143000Z
DTEND:20260420T150000Z
SUMMARY:Visitation
DESCRIPTION:
URL:https://www.lassahnfuneralhomes.com/obituaries/theda-ecker
LOCATION: 13300 Manor Road  Glen Arm MD 21057
GEO:39.488484;-76.5231932
END:VEVENT
END:VCALENDAR